BEGIN:VCALENDAR
VERSION:2.0
PRODID:researchseminars.org
CALSCALE:GREGORIAN
X-WR-CALNAME:researchseminars.org
BEGIN:VEVENT
SUMMARY:Antony Speranza (Perimeter)
DTSTART:20200928T163000Z
DTEND:20200928T173000Z
DTSTAMP:20260424T235134Z
UID:McGill_HEP_seminars/1
DESCRIPTION:Title: <a href="https://stable.researchseminars.org/talk/McGil
 l_HEP_seminars/1/">Anomalies in gravitational charge algebras of null boun
 daries and black hole entropy</a>\nby Antony Speranza (Perimeter) as part 
 of McGill Theoretical High Energy Physics Seminars\n\nAbstract: TBA\n
LOCATION:https://stable.researchseminars.org/talk/McGill_HEP_seminars/1/
END:VEVENT
BEGIN:VEVENT
SUMMARY:Georges Obied & Cumrun Vafa (Harvard)
DTSTART:20201005T163000Z
DTEND:20201005T173000Z
DTSTAMP:20260424T235134Z
UID:McGill_HEP_seminars/2
DESCRIPTION:Title: <a href="https://stable.researchseminars.org/talk/McGil
 l_HEP_seminars/2/">Topological Gravity as the Early Phase of Our Universe<
 /a>\nby Georges Obied & Cumrun Vafa (Harvard) as part of McGill Theoretica
 l High Energy Physics Seminars\n\nAbstract: TBA\n
LOCATION:https://stable.researchseminars.org/talk/McGill_HEP_seminars/2/
END:VEVENT
BEGIN:VEVENT
SUMMARY:Jens Chluba (University of Manchester)
DTSTART:20201013T170000Z
DTEND:20201013T180000Z
DTSTAMP:20260424T235134Z
UID:McGill_HEP_seminars/3
DESCRIPTION:Title: <a href="https://stable.researchseminars.org/talk/McGil
 l_HEP_seminars/3/">Cosmology Beyond Equilibrium: Science with CMB spectral
  distortions</a>\nby Jens Chluba (University of Manchester) as part of McG
 ill Theoretical High Energy Physics Seminars\n\nAbstract: TBA\n
LOCATION:https://stable.researchseminars.org/talk/McGill_HEP_seminars/3/
END:VEVENT
BEGIN:VEVENT
SUMMARY:Sarah Shandera (Penn State University)
DTSTART:20201019T163000Z
DTEND:20201019T173000Z
DTSTAMP:20260424T235134Z
UID:McGill_HEP_seminars/4
DESCRIPTION:Title: <a href="https://stable.researchseminars.org/talk/McGil
 l_HEP_seminars/4/">Cosmological Open Quantum Systems</a>\nby Sarah Shander
 a (Penn State University) as part of McGill Theoretical High Energy Physic
 s Seminars\n\nAbstract: TBA\n
LOCATION:https://stable.researchseminars.org/talk/McGill_HEP_seminars/4/
END:VEVENT
BEGIN:VEVENT
SUMMARY:Yuval Grossman (Cornell University)
DTSTART:20201026T163000Z
DTEND:20201026T173000Z
DTSTAMP:20260424T235134Z
UID:McGill_HEP_seminars/5
DESCRIPTION:Title: <a href="https://stable.researchseminars.org/talk/McGil
 l_HEP_seminars/5/">Charming CP Violation</a>\nby Yuval Grossman (Cornell U
 niversity) as part of McGill Theoretical High Energy Physics Seminars\n\nA
 bstract: TBA\n
LOCATION:https://stable.researchseminars.org/talk/McGill_HEP_seminars/5/
END:VEVENT
BEGIN:VEVENT
SUMMARY:Jun Nishimura (KEK and SOKENDAI\, Tsukuba\, Japan)
DTSTART:20201102T173000Z
DTEND:20201102T183000Z
DTSTAMP:20260424T235134Z
UID:McGill_HEP_seminars/6
DESCRIPTION:Title: <a href="https://stable.researchseminars.org/talk/McGil
 l_HEP_seminars/6/">Emergence of (3+1)-dimensional expanding space-time fro
 m the Lorentzian IKKT matrix model</a>\nby Jun Nishimura (KEK and SOKENDAI
 \, Tsukuba\, Japan) as part of McGill Theoretical High Energy Physics Semi
 nars\n\nAbstract: TBA\n
LOCATION:https://stable.researchseminars.org/talk/McGill_HEP_seminars/6/
END:VEVENT
BEGIN:VEVENT
SUMMARY:Alessandra Silvestri (Leiden University)
DTSTART:20201109T173000Z
DTEND:20201109T183000Z
DTSTAMP:20260424T235134Z
UID:McGill_HEP_seminars/7
DESCRIPTION:Title: <a href="https://stable.researchseminars.org/talk/McGil
 l_HEP_seminars/7/">Probing gravity and dark energy in the era of multi-mes
 senger cosmology</a>\nby Alessandra Silvestri (Leiden University) as part 
 of McGill Theoretical High Energy Physics Seminars\n\nAbstract: TBA\n
LOCATION:https://stable.researchseminars.org/talk/McGill_HEP_seminars/7/
END:VEVENT
BEGIN:VEVENT
SUMMARY:Temple He (UC Davis)
DTSTART:20201116T173000Z
DTEND:20201116T183000Z
DTSTAMP:20260424T235134Z
UID:McGill_HEP_seminars/8
DESCRIPTION:Title: <a href="https://stable.researchseminars.org/talk/McGil
 l_HEP_seminars/8/">Covariant Phase Space and Soft Factorization in non-Abe
 lian Gauge Theories</a>\nby Temple He (UC Davis) as part of McGill Theoret
 ical High Energy Physics Seminars\n\nAbstract: TBA\n
LOCATION:https://stable.researchseminars.org/talk/McGill_HEP_seminars/8/
END:VEVENT
BEGIN:VEVENT
SUMMARY:Thomas Van Riet (KU Leuven)
DTSTART:20201123T173000Z
DTEND:20201123T183000Z
DTSTAMP:20260424T235134Z
UID:McGill_HEP_seminars/9
DESCRIPTION:Title: <a href="https://stable.researchseminars.org/talk/McGil
 l_HEP_seminars/9/">The problem with a small and positive cosmological cons
 tant</a>\nby Thomas Van Riet (KU Leuven) as part of McGill Theoretical Hig
 h Energy Physics Seminars\n\nAbstract: TBA\n
LOCATION:https://stable.researchseminars.org/talk/McGill_HEP_seminars/9/
END:VEVENT
BEGIN:VEVENT
SUMMARY:Sumit Das (Kentucky)
DTSTART:20201130T173000Z
DTEND:20201130T183000Z
DTSTAMP:20260424T235134Z
UID:McGill_HEP_seminars/10
DESCRIPTION:Title: <a href="https://stable.researchseminars.org/talk/McGil
 l_HEP_seminars/10/">Gauge invariant target space entanglement and holograp
 hy</a>\nby Sumit Das (Kentucky) as part of McGill Theoretical High Energy 
 Physics Seminars\n\nAbstract: TBA\n
LOCATION:https://stable.researchseminars.org/talk/McGill_HEP_seminars/10/
END:VEVENT
BEGIN:VEVENT
SUMMARY:Sunny Vagnozzi (University of Cambridge)
DTSTART:20201207T173000Z
DTEND:20201207T183000Z
DTSTAMP:20260424T235134Z
UID:McGill_HEP_seminars/11
DESCRIPTION:Title: <a href="https://stable.researchseminars.org/talk/McGil
 l_HEP_seminars/11/">The trouble with spatial curvature</a>\nby Sunny Vagno
 zzi (University of Cambridge) as part of McGill Theoretical High Energy Ph
 ysics Seminars\n\nAbstract: TBA\n
LOCATION:https://stable.researchseminars.org/talk/McGill_HEP_seminars/11/
END:VEVENT
BEGIN:VEVENT
SUMMARY:Martin Bojowald (Penn State University)
DTSTART:20201214T173000Z
DTEND:20201214T183000Z
DTSTAMP:20260424T235134Z
UID:McGill_HEP_seminars/12
DESCRIPTION:Title: <a href="https://stable.researchseminars.org/talk/McGil
 l_HEP_seminars/12/">Non-adiabatic and non-local behavior in effective theo
 ries</a>\nby Martin Bojowald (Penn State University) as part of McGill The
 oretical High Energy Physics Seminars\n\n\nAbstract\nQuantum dynamics is i
 n general non-local\, but common effective theories often use derivative e
 xpansions that imply local approximations. This talk introduces a direct d
 escription of non-local effects at a semiclassical level in various cosmol
 ogical scenarios\, based on an application of non-adiabatic quantum dynami
 cs as used for instance in quantum chemistry. Systems considered include t
 unneling phenomena\, a new observationally consistent version of Higgs inf
 lation\, and cosmological back-reaction effects.\n
LOCATION:https://stable.researchseminars.org/talk/McGill_HEP_seminars/12/
END:VEVENT
BEGIN:VEVENT
SUMMARY:Raphael Bousso (Berkeley)
DTSTART:20210111T173000Z
DTEND:20210111T183000Z
DTSTAMP:20260424T235134Z
UID:McGill_HEP_seminars/13
DESCRIPTION:Title: <a href="https://stable.researchseminars.org/talk/McGil
 l_HEP_seminars/13/">Island Finder</a>\nby Raphael Bousso (Berkeley) as par
 t of McGill Theoretical High Energy Physics Seminars\n\nAbstract: TBA\n
LOCATION:https://stable.researchseminars.org/talk/McGill_HEP_seminars/13/
END:VEVENT
BEGIN:VEVENT
SUMMARY:Claudia de Rham (Imperial)
DTSTART:20210118T173000Z
DTEND:20210118T183000Z
DTSTAMP:20260424T235134Z
UID:McGill_HEP_seminars/14
DESCRIPTION:Title: <a href="https://stable.researchseminars.org/talk/McGil
 l_HEP_seminars/14/">Positivity with Gravity</a>\nby Claudia de Rham (Imper
 ial) as part of McGill Theoretical High Energy Physics Seminars\n\nAbstrac
 t: TBA\n
LOCATION:https://stable.researchseminars.org/talk/McGill_HEP_seminars/14/
END:VEVENT
BEGIN:VEVENT
SUMMARY:Benjamin Heidenreich (UMass\, Amherst)
DTSTART:20210125T173000Z
DTEND:20210125T183000Z
DTSTAMP:20260424T235134Z
UID:McGill_HEP_seminars/15
DESCRIPTION:Title: <a href="https://stable.researchseminars.org/talk/McGil
 l_HEP_seminars/15/">Chern-Weil Global Symmetries and How Quantum Gravity A
 voids Them</a>\nby Benjamin Heidenreich (UMass\, Amherst) as part of McGi
 ll Theoretical High Energy Physics Seminars\n\nAbstract: TBA\n
LOCATION:https://stable.researchseminars.org/talk/McGill_HEP_seminars/15/
END:VEVENT
BEGIN:VEVENT
SUMMARY:Lam Hui (Columbia)
DTSTART:20210201T173000Z
DTEND:20210201T183000Z
DTSTAMP:20260424T235134Z
UID:McGill_HEP_seminars/16
DESCRIPTION:Title: <a href="https://stable.researchseminars.org/talk/McGil
 l_HEP_seminars/16/">Wave dark matter</a>\nby Lam Hui (Columbia) as part of
  McGill Theoretical High Energy Physics Seminars\n\nAbstract: TBA\n
LOCATION:https://stable.researchseminars.org/talk/McGill_HEP_seminars/16/
END:VEVENT
BEGIN:VEVENT
SUMMARY:Ralph Blumenhagen (MPP\, Munich)
DTSTART:20210208T173000Z
DTEND:20210208T183000Z
DTSTAMP:20260424T235134Z
UID:McGill_HEP_seminars/17
DESCRIPTION:Title: <a href="https://stable.researchseminars.org/talk/McGil
 l_HEP_seminars/17/">De Sitter Quantum Breaking\, Swampland Conjectures and
  Thermal Strings</a>\nby Ralph Blumenhagen (MPP\, Munich) as part of McGil
 l Theoretical High Energy Physics Seminars\n\nAbstract: TBA\n
LOCATION:https://stable.researchseminars.org/talk/McGill_HEP_seminars/17/
END:VEVENT
BEGIN:VEVENT
SUMMARY:Isabel Garcia Garcia (KITP\, UCSB)
DTSTART:20210215T173000Z
DTEND:20210215T183000Z
DTSTAMP:20260424T235134Z
UID:McGill_HEP_seminars/18
DESCRIPTION:Title: <a href="https://stable.researchseminars.org/talk/McGil
 l_HEP_seminars/18/">P not PQ</a>\nby Isabel Garcia Garcia (KITP\, UCSB) as
  part of McGill Theoretical High Energy Physics Seminars\n\nAbstract: TBA\
 n
LOCATION:https://stable.researchseminars.org/talk/McGill_HEP_seminars/18/
END:VEVENT
BEGIN:VEVENT
SUMMARY:Sébastien Renaux-Petel (IAP)
DTSTART:20210222T173000Z
DTEND:20210222T183000Z
DTSTAMP:20260424T235134Z
UID:McGill_HEP_seminars/19
DESCRIPTION:Title: <a href="https://stable.researchseminars.org/talk/McGil
 l_HEP_seminars/19/">Probing primordial features with the Stochastic Gravit
 ational Wave Background</a>\nby Sébastien Renaux-Petel (IAP) as part of M
 cGill Theoretical High Energy Physics Seminars\n\nAbstract: TBA\n
LOCATION:https://stable.researchseminars.org/talk/McGill_HEP_seminars/19/
END:VEVENT
BEGIN:VEVENT
SUMMARY:Gia Dvali (LMU-MPI\, Munich)
DTSTART:20210301T173000Z
DTEND:20210301T183000Z
DTSTAMP:20260424T235134Z
UID:McGill_HEP_seminars/20
DESCRIPTION:Title: <a href="https://stable.researchseminars.org/talk/McGil
 l_HEP_seminars/20/">S-matrix constraints on de Sitter and on black holes</
 a>\nby Gia Dvali (LMU-MPI\, Munich) as part of McGill Theoretical High Ene
 rgy Physics Seminars\n\nAbstract: TBA\n
LOCATION:https://stable.researchseminars.org/talk/McGill_HEP_seminars/20/
END:VEVENT
BEGIN:VEVENT
SUMMARY:Jonathan Heckman (UPenn)
DTSTART:20210308T173000Z
DTEND:20210308T183000Z
DTSTAMP:20260424T235134Z
UID:McGill_HEP_seminars/21
DESCRIPTION:Title: <a href="https://stable.researchseminars.org/talk/McGil
 l_HEP_seminars/21/">A Model of Couplings</a>\nby Jonathan Heckman (UPenn) 
 as part of McGill Theoretical High Energy Physics Seminars\n\nAbstract: TB
 A\n
LOCATION:https://stable.researchseminars.org/talk/McGill_HEP_seminars/21/
END:VEVENT
BEGIN:VEVENT
SUMMARY:Jean-Luc Lehners (AEI\, Potsdam)
DTSTART:20210322T163000Z
DTEND:20210322T173000Z
DTSTAMP:20260424T235134Z
UID:McGill_HEP_seminars/22
DESCRIPTION:Title: <a href="https://stable.researchseminars.org/talk/McGil
 l_HEP_seminars/22/">Path integrals\, black holes and the beginning of the 
 universe</a>\nby Jean-Luc Lehners (AEI\, Potsdam) as part of McGill Theore
 tical High Energy Physics Seminars\n\nAbstract: TBA\n
LOCATION:https://stable.researchseminars.org/talk/McGill_HEP_seminars/22/
END:VEVENT
BEGIN:VEVENT
SUMMARY:Horatiu Nastase (IFT\, UNESP)
DTSTART:20210329T163000Z
DTEND:20210329T173000Z
DTSTAMP:20260424T235134Z
UID:McGill_HEP_seminars/23
DESCRIPTION:Title: <a href="https://stable.researchseminars.org/talk/McGil
 l_HEP_seminars/23/">Solving cosmology puzzles with holographic cosmology a
 nd transition to standard RD  cosmology</a>\nby Horatiu Nastase (IFT\, UNE
 SP) as part of McGill Theoretical High Energy Physics Seminars\n\nAbstract
 : TBA\n
LOCATION:https://stable.researchseminars.org/talk/McGill_HEP_seminars/23/
END:VEVENT
BEGIN:VEVENT
SUMMARY:Timo Weigand (Heidelberg)
DTSTART:20210412T163000Z
DTEND:20210412T173000Z
DTSTAMP:20260424T235134Z
UID:McGill_HEP_seminars/24
DESCRIPTION:Title: <a href="https://stable.researchseminars.org/talk/McGil
 l_HEP_seminars/24/">Tensionless Strings in Four Dimensions and the Swampla
 nd</a>\nby Timo Weigand (Heidelberg) as part of McGill Theoretical High En
 ergy Physics Seminars\n\nAbstract: TBA\n
LOCATION:https://stable.researchseminars.org/talk/McGill_HEP_seminars/24/
END:VEVENT
BEGIN:VEVENT
SUMMARY:Evan McDonough (U Chicago)
DTSTART:20210426T163000Z
DTEND:20210426T173000Z
DTSTAMP:20260424T235134Z
UID:McGill_HEP_seminars/25
DESCRIPTION:Title: <a href="https://stable.researchseminars.org/talk/McGil
 l_HEP_seminars/25/">Catastrophic Production of Slow Gravitinos</a>\nby Eva
 n McDonough (U Chicago) as part of McGill Theoretical High Energy Physics 
 Seminars\n\nAbstract: TBA\n
LOCATION:https://stable.researchseminars.org/talk/McGill_HEP_seminars/25/
END:VEVENT
BEGIN:VEVENT
SUMMARY:Matheus Hostert (UMN & Perimeter)
DTSTART:20210503T163000Z
DTEND:20210503T173000Z
DTSTAMP:20260424T235134Z
UID:McGill_HEP_seminars/26
DESCRIPTION:Title: <a href="https://stable.researchseminars.org/talk/McGil
 l_HEP_seminars/26/">A dark seesaw at low scales: applications to the MiniB
 ooNE and (g-2) puzzles</a>\nby Matheus Hostert (UMN & Perimeter) as part o
 f McGill Theoretical High Energy Physics Seminars\n\nAbstract: TBA\n
LOCATION:https://stable.researchseminars.org/talk/McGill_HEP_seminars/26/
END:VEVENT
BEGIN:VEVENT
SUMMARY:Arjun Kar (UBC)
DTSTART:20210517T163000Z
DTEND:20210517T173000Z
DTSTAMP:20260424T235134Z
UID:McGill_HEP_seminars/27
DESCRIPTION:Title: <a href="https://stable.researchseminars.org/talk/McGil
 l_HEP_seminars/27/">Wormholes\, islands\, and ER = EPR</a>\nby Arjun Kar (
 UBC) as part of McGill Theoretical High Energy Physics Seminars\n\nAbstrac
 t: TBA\n
LOCATION:https://stable.researchseminars.org/talk/McGill_HEP_seminars/27/
END:VEVENT
BEGIN:VEVENT
SUMMARY:Irene Valenzuela (Harvard)
DTSTART:20210531T163000Z
DTEND:20210531T173000Z
DTSTAMP:20260424T235134Z
UID:McGill_HEP_seminars/28
DESCRIPTION:Title: <a href="https://stable.researchseminars.org/talk/McGil
 l_HEP_seminars/28/">Distant Strings on the Swampland</a>\nby Irene Valenzu
 ela (Harvard) as part of McGill Theoretical High Energy Physics Seminars\n
 \nAbstract: TBA\n
LOCATION:https://stable.researchseminars.org/talk/McGill_HEP_seminars/28/
END:VEVENT
BEGIN:VEVENT
SUMMARY:Kaloian Lozanov (UIUC)
DTSTART:20210607T163000Z
DTEND:20210607T173000Z
DTSTAMP:20260424T235134Z
UID:McGill_HEP_seminars/29
DESCRIPTION:Title: <a href="https://stable.researchseminars.org/talk/McGil
 l_HEP_seminars/29/">Topics in inflationary cosmology: reheating\, gauge fi
 elds and gravitational waves</a>\nby Kaloian Lozanov (UIUC) as part of McG
 ill Theoretical High Energy Physics Seminars\n\nAbstract: TBA\n
LOCATION:https://stable.researchseminars.org/talk/McGill_HEP_seminars/29/
END:VEVENT
BEGIN:VEVENT
SUMMARY:Benjamin Lillard (UIUC)
DTSTART:20210614T163000Z
DTEND:20210614T173000Z
DTSTAMP:20260424T235134Z
UID:McGill_HEP_seminars/30
DESCRIPTION:Title: <a href="https://stable.researchseminars.org/talk/McGil
 l_HEP_seminars/30/">Bubble-Of-Nothing Decay of the de Sitter Universe</a>\
 nby Benjamin Lillard (UIUC) as part of McGill Theoretical High Energy Phys
 ics Seminars\n\nAbstract: TBA\n
LOCATION:https://stable.researchseminars.org/talk/McGill_HEP_seminars/30/
END:VEVENT
BEGIN:VEVENT
SUMMARY:Alek Bedroya (Harvard)
DTSTART:20210628T163000Z
DTEND:20210628T173000Z
DTSTAMP:20260424T235134Z
UID:McGill_HEP_seminars/31
DESCRIPTION:Title: <a href="https://stable.researchseminars.org/talk/McGil
 l_HEP_seminars/31/">Thermal de Sitter and the Swampland</a>\nby Alek Bedro
 ya (Harvard) as part of McGill Theoretical High Energy Physics Seminars\n\
 nAbstract: TBA\n
LOCATION:https://stable.researchseminars.org/talk/McGill_HEP_seminars/31/
END:VEVENT
BEGIN:VEVENT
SUMMARY:Vincent Vennin (APC\, Paris)
DTSTART:20210712T163000Z
DTEND:20210712T173000Z
DTSTAMP:20260424T235134Z
UID:McGill_HEP_seminars/32
DESCRIPTION:Title: <a href="https://stable.researchseminars.org/talk/McGil
 l_HEP_seminars/32/">Can we prove that cosmic structures are of quantum mec
 hanical origin?</a>\nby Vincent Vennin (APC\, Paris) as part of McGill The
 oretical High Energy Physics Seminars\n\nAbstract: TBA\n
LOCATION:https://stable.researchseminars.org/talk/McGill_HEP_seminars/32/
END:VEVENT
END:VCALENDAR
